BEGIN:VCALENDAR
VERSION:2.0
PRODID:-//wp-events-plugin.com//6.5.1//EN
TZID:Europe/Paris
X-WR-TIMEZONE:Europe/Paris
BEGIN:VEVENT
UID:77@azaylebrule.fr
DTSTART;TZID=Europe/Paris:20260117T110000
DTEND;TZID=Europe/Paris:20260117T130000
DTSTAMP:20260106T134722Z
URL:https://www.azaylebrule.fr/events/voeux-communaux/
SUMMARY:Vœux communaux
DESCRIPTION:La population azéenne est conviée à la cérémonie des vœux
  communaux\n\nsamedi 17 janvier 2026 à 11 heures au foyer rural de Cerzea
 u\n\nMerci de confirmer votre présence au 05 16 18 79 41 ou communication
 @azaylebrule.fr
ATTACH;FMTTYPE=image/jpeg:https://www.azaylebrule.fr/wp-content/uploads/20
 26/01/Voeux-communaux-du-17012026-scaled.jpg
LOCATION:Foyer Rural\, 2 route du Quaireux\,\, Azay-le-Brûlé\, 79400\, Fr
 ance
X-APPLE-STRUCTURED-LOCATION;VALUE=URI;X-ADDRESS=2 route du Quaireux\,\, Aza
 y-le-Brûlé\, 79400\, France;X-APPLE-RADIUS=100;X-TITLE=Foyer Rural:geo:0
 ,0
END:VEVENT
BEGIN:VTIMEZONE
TZID:Europe/Paris
X-LIC-LOCATION:Europe/Paris
BEGIN:STANDARD
DTSTART:20251026T020000
TZOFFSETFROM:+0200
TZOFFSETTO:+0100
TZNAME:CET
END:STANDARD
END:VTIMEZONE
END:VCALENDAR