BEGIN:VCALENDAR
VERSION:2.0
PRODID:-//wp-events-plugin.com//6.5.1//EN
TZID:Europe/Paris
X-WR-TIMEZONE:Europe/Paris
BEGIN:VEVENT
UID:64@azaylebrule.fr
DTSTART;TZID=Europe/Paris:20251012T150000
DTEND;TZID=Europe/Paris:20251012T173000
DTSTAMP:20250923T121726Z
URL:https://www.azaylebrule.fr/events/theatre/
SUMMARY:Théâtre
DESCRIPTION:On croit qu’on vole\n\nThriller psychologique de Natacha Astu
 to\n\n"Madeline Raconteur est psychiatre depuis plus de trente ans et\nmal
 gré ses méthodes plutôt conventionnelles\, elle obtient d’étonnants\
 nrésultats dans son petit cabinet privé. À part peut-être avec Léonor
 e\nMillet qu’elle tente d’aider depuis trois ans\, mais qui semble som
 brer.\nC’est un matin d’hiver que l’univers que Madeline avait const
 ruit et\nréussi à maintenir stable au prix de beaucoup d’efforts comme
 ncera à\ndériver. Ce matin froid où son amie Anne Marais\, enquêtrice 
 à la brigade\ncriminelle\, viendra frapper à sa porte."\n\nDistribution 
 : Agnès\, Amandine\, Audrey\, Christine\nMise en scène : Myriane VINSON\
 nMusiques Nicolo PAGANINI (Caprices)\n\nPage Facebook: @TheatreLenviedEnfe
 r\nContacts : lenviedenfer@orange.fr 06.03.12.46.50
ATTACH;FMTTYPE=image/jpeg:https://www.azaylebrule.fr/wp-content/uploads/20
 25/09/Affiche-On-croit-quon-vole-Azay-scaled.jpg
LOCATION:Mairie d'Azay-le-Brûlé\,  34 Rue du Prieuré le Bourg\, Azay-le-
 brûlé\, 79400\, France
X-APPLE-STRUCTURED-LOCATION;VALUE=URI;X-ADDRESS= 34 Rue du Prieuré le Bour
 g\, Azay-le-brûlé\, 79400\, France;X-APPLE-RADIUS=100;X-TITLE=Mairie d'A
 zay-le-Brûlé:geo:0,0
END:VEVENT
BEGIN:VTIMEZONE
TZID:Europe/Paris
X-LIC-LOCATION:Europe/Paris
BEGIN:DAYLIGHT
DTSTART:20250330T030000
TZOFFSETFROM:+0100
TZOFFSETTO:+0200
TZNAME:CEST
END:DAYLIGHT
END:VTIMEZONE
END:VCALENDAR