BEGIN:VCALENDAR
VERSION:2.0
PRODID:-//wp-events-plugin.com//6.5.1//EN
TZID:Europe/Paris
X-WR-TIMEZONE:Europe/Paris
BEGIN:VEVENT
UID:71@azaylebrule.fr
DTSTART;TZID=Europe/Paris:20251115T133000
DTEND;TZID=Europe/Paris:20251115T173000
DTSTAMP:20251017T123036Z
URL:https://www.azaylebrule.fr/events/stage-dauto-defense-contre-les-viole
 nces-urbaines/
SUMMARY:Stage d'auto défense contre les violences urbaines
DESCRIPTION:Le prochain stage découverte aura lieu le samedi 15 novembre 2
 025 à 13h30 au foyer rural de Cerzeau et aura pour thème\, l'AUTO DÉFEN
 SE contre les violences urbaines.Anticipation\, protection de soi\, techni
 ques de défense... il est plus que jamais primordial d'acquérir l'attitu
 de et les gestes clés contre les violences urbaines ! Dans une société
  où manifestations\, émeutes\, agressions de rue ou dans un lieu public 
 sont malheureusement des évènements quotidiens... apprenez à vous défe
 ndre lors de notre stage inédit en #DeuxSèvres ! RDV Samedi 15 Novemb
 re 2025 de 13h30 à 17h30 à #azaylebrulé 79400 - Stage ouvert à tous 
 à partir de 14 ans - INSCRIPTION OBLIGATOIRE !
ATTACH;FMTTYPE=image/jpeg:https://www.azaylebrule.fr/wp-content/uploads/20
 25/10/Stage-self-au-FR-du-15112025.jpg
LOCATION:Foyer Rural\, 2 route du Quaireux\,\, Azay-le-Brûlé\, 79400\, Fr
 ance
X-APPLE-STRUCTURED-LOCATION;VALUE=URI;X-ADDRESS=2 route du Quaireux\,\, Aza
 y-le-Brûlé\, 79400\, France;X-APPLE-RADIUS=100;X-TITLE=Foyer Rural:geo:0
 ,0
END:VEVENT
BEGIN:VTIMEZONE
TZID:Europe/Paris
X-LIC-LOCATION:Europe/Paris
BEGIN:STANDARD
DTSTART:20251026T020000
TZOFFSETFROM:+0200
TZOFFSETTO:+0100
TZNAME:CET
END:STANDARD
END:VTIMEZONE
END:VCALENDAR