BEGIN:VCALENDAR
VERSION:2.0
PRODID:-//wp-events-plugin.com//6.5.1//EN
TZID:Europe/Paris
X-WR-TIMEZONE:Europe/Paris
BEGIN:VEVENT
UID:68@azaylebrule.fr
DTSTART;TZID=Europe/Paris:20251107T200000
DTEND;TZID=Europe/Paris:20251107T230000
DTSTAMP:20251002T115114Z
URL:https://www.azaylebrule.fr/events/soiree-tarot-et-jeux-de-cartes/
SUMMARY:Soirée Tarot et jeux de cartes
DESCRIPTION:Soirée Tarot et jeux de carte organisée par A qui de jouer ?\
 n\nDébutant et passionné (Skijo\, Uno\, Belote\,...)\n\nGRATUIT
ATTACH;FMTTYPE=image/jpeg:https://www.azaylebrule.fr/wp-content/uploads/20
 25/10/Soiree-jeux-7-novembre.jpg
LOCATION:Mairie d'Azay-le-Brûlé\,  34 Rue du Prieuré le Bourg\, Azay-le-
 brûlé\, 79400\, France
X-APPLE-STRUCTURED-LOCATION;VALUE=URI;X-ADDRESS= 34 Rue du Prieuré le Bour
 g\, Azay-le-brûlé\, 79400\, France;X-APPLE-RADIUS=100;X-TITLE=Mairie d'A
 zay-le-Brûlé:geo:0,0
END:VEVENT
BEGIN:VTIMEZONE
TZID:Europe/Paris
X-LIC-LOCATION:Europe/Paris
BEGIN:STANDARD
DTSTART:20251026T020000
TZOFFSETFROM:+0200
TZOFFSETTO:+0100
TZNAME:CET
END:STANDARD
END:VTIMEZONE
END:VCALENDAR