BEGIN:VCALENDAR
VERSION:2.0
PRODID:-//wp-events-plugin.com//6.5.1//EN
TZID:Europe/Paris
X-WR-TIMEZONE:Europe/Paris
BEGIN:VEVENT
UID:85@azaylebrule.fr
DTSTART;TZID=Europe/Paris:20260424T200000
DTEND;TZID=Europe/Paris:20260424T233000
DTSTAMP:20260305T142026Z
URL:https://www.azaylebrule.fr/events/soiree-jeux-de-societes-8/
SUMMARY:Soirée jeux de sociétés
DESCRIPTION:Soirée jeux de sociétés proposée par A qui de jouer ?\n\nSt
 and boissons et gâteaux sur place\n\nGratuit et ouvert à tous
ATTACH;FMTTYPE=image/jpeg:https://www.azaylebrule.fr/wp-content/uploads/20
 26/03/Vendredi-24-avril-2026.png
LOCATION:Mairie d'Azay-le-Brûlé\,  34 Rue du Prieuré le Bourg\, Azay-le-
 brûlé\, 79400\, France
X-APPLE-STRUCTURED-LOCATION;VALUE=URI;X-ADDRESS= 34 Rue du Prieuré le Bour
 g\, Azay-le-brûlé\, 79400\, France;X-APPLE-RADIUS=100;X-TITLE=Mairie d'A
 zay-le-Brûlé:geo:0,0
END:VEVENT
BEGIN:VTIMEZONE
TZID:Europe/Paris
X-LIC-LOCATION:Europe/Paris
BEGIN:DAYLIGHT
DTSTART:20260329T030000
TZOFFSETFROM:+0100
TZOFFSETTO:+0200
TZNAME:CEST
END:DAYLIGHT
END:VTIMEZONE
END:VCALENDAR