BEGIN:VCALENDAR
VERSION:2.0
PRODID:-//wp-events-plugin.com//6.5.1//EN
TZID:Europe/Paris
X-WR-TIMEZONE:Europe/Paris
BEGIN:VEVENT
UID:74@azaylebrule.fr
DTSTART;TZID=Europe/Paris:20251122T100000
DTEND;TZID=Europe/Paris:20251123T180000
DTSTAMP:20251105T094926Z
URL:https://www.azaylebrule.fr/events/rencontres-photographiques/
SUMMARY:Rencontres photographiques
DESCRIPTION:Rencontres photographiques organisées par Parl'Im@ge\n\n10h à
  18h au foyer rural de Cerzeau\n\nEntrée libre\n\nAnimations-rencontres\,
  visite commentée\n\nStudio portrait \; tirages numériques
ATTACH;FMTTYPE=image/jpeg:https://www.azaylebrule.fr/wp-content/uploads/20
 25/11/Affiche-2025-scaled.jpg
LOCATION:Foyer Rural\, 2 route du Quaireux\,\, Azay-le-Brûlé\, 79400\, Fr
 ance
X-APPLE-STRUCTURED-LOCATION;VALUE=URI;X-ADDRESS=2 route du Quaireux\,\, Aza
 y-le-Brûlé\, 79400\, France;X-APPLE-RADIUS=100;X-TITLE=Foyer Rural:geo:0
 ,0
END:VEVENT
BEGIN:VTIMEZONE
TZID:Europe/Paris
X-LIC-LOCATION:Europe/Paris
BEGIN:STANDARD
DTSTART:20251026T020000
TZOFFSETFROM:+0200
TZOFFSETTO:+0100
TZNAME:CET
END:STANDARD
END:VTIMEZONE
END:VCALENDAR