BEGIN:VCALENDAR
VERSION:2.0
PRODID:-//wp-events-plugin.com//6.5.1//EN
TZID:Europe/Paris
X-WR-TIMEZONE:Europe/Paris
BEGIN:VEVENT
UID:65@azaylebrule.fr
DTSTART;TZID=Europe/Paris;VALUE=DATE:20251026
DTEND;TZID=Europe/Paris;VALUE=DATE:20251027
DTSTAMP:20250925T083321Z
URL:https://www.azaylebrule.fr/events/randonnee-pedestre-2/
SUMMARY:Randonnée pédestre
DESCRIPTION:Départ : Foyer rural de Cerzeau – 79400 Azay-le-Brûlé Deu
 x parcours au choix : 10 km ou 15 km Départ libre entre 8h et 10h 7 €
  / personne – gratuit pour les -14 ans Ravitaillement prévu sur le par
 cours Parking : école et stade de Cerzeau Inscriptions sur place le jou
 r mêmeVenez marcher\, respirer et partager un moment convivial avec l’A
 SAA On vous attend nombreux\, que ce soit pour le sport… ou pour fêter
  votre arrivée !
ATTACH;FMTTYPE=image/jpeg:https://www.azaylebrule.fr/wp-content/uploads/20
 25/09/Randonnee-du-26102025.jpg
LOCATION:Foyer Rural\, 2 route du Quaireux\,\, Azay-le-Brûlé\, 79400\, Fr
 ance
X-APPLE-STRUCTURED-LOCATION;VALUE=URI;X-ADDRESS=2 route du Quaireux\,\, Aza
 y-le-Brûlé\, 79400\, France;X-APPLE-RADIUS=100;X-TITLE=Foyer Rural:geo:0
 ,0
END:VEVENT
BEGIN:VTIMEZONE
TZID:Europe/Paris
X-LIC-LOCATION:Europe/Paris
BEGIN:DAYLIGHT
DTSTART:20250330T030000
TZOFFSETFROM:+0100
TZOFFSETTO:+0200
TZNAME:CEST
END:DAYLIGHT
BEGIN:STANDARD
DTSTART:20251026T020000
TZOFFSETFROM:+0200
TZOFFSETTO:+0100
TZNAME:CET
END:STANDARD
END:VTIMEZONE
END:VCALENDAR