BEGIN:VCALENDAR
VERSION:2.0
PRODID:-//wp-events-plugin.com//6.5.1//EN
TZID:Europe/Paris
X-WR-TIMEZONE:Europe/Paris
BEGIN:VEVENT
UID:67@azaylebrule.fr
DTSTART;TZID=Europe/Paris:20251129T150000
DTEND;TZID=Europe/Paris:20251129T213000
DTSTAMP:20251114T102411Z
URL:https://www.azaylebrule.fr/events/marche-de-noel-2/
SUMMARY:Marché de Noël
DESCRIPTION:L'Association des parents d'Élèves d'Azay-le-Brûlé organise
  son marché de Noël le samedi 29 novembre 2025 à 15 heures sur le site 
 de la Mairie. A cette occasion\, l'APE recherche dès à présent des prod
 ucteurs\, créateurs et artisans locaux (emplacement en intérieur).\n\nIn
 scriptions et renseignements : apeazaylebrule@gmail.com
ATTACH;FMTTYPE=image/jpeg:https://www.azaylebrule.fr/wp-content/uploads/20
 25/11/Affiche-marche-de-noel-du-29112025.jpg
LOCATION:Mairie d'Azay-le-Brûlé\,  34 Rue du Prieuré le Bourg\, Azay-le-
 brûlé\, 79400\, France
X-APPLE-STRUCTURED-LOCATION;VALUE=URI;X-ADDRESS= 34 Rue du Prieuré le Bour
 g\, Azay-le-brûlé\, 79400\, France;X-APPLE-RADIUS=100;X-TITLE=Mairie d'A
 zay-le-Brûlé:geo:0,0
END:VEVENT
BEGIN:VTIMEZONE
TZID:Europe/Paris
X-LIC-LOCATION:Europe/Paris
BEGIN:STANDARD
DTSTART:20251026T020000
TZOFFSETFROM:+0200
TZOFFSETTO:+0100
TZNAME:CET
END:STANDARD
END:VTIMEZONE
END:VCALENDAR