BEGIN:VCALENDAR
VERSION:2.0
PRODID:-//wp-events-plugin.com//6.5.1//EN
TZID:Europe/Paris
X-WR-TIMEZONE:Europe/Paris
BEGIN:VEVENT
UID:43@azaylebrule.fr
DTSTART;TZID=Europe/Paris:20250525T140000
DTEND;TZID=Europe/Paris:20250525T170000
DTSTAMP:20250410T085306Z
URL:https://www.azaylebrule.fr/events/gratiferia/
SUMMARY:Gratiféria
DESCRIPTION:Le marché des objets gratuits\, organisé par le Conseil Munic
 ipal des Jeunes d'Azay-le-Brûlé\n\nSamedi 24 mai de 15h à 17h : dépôt
  des objets\n\nQue peut-on donner ? Les objets acceptés doivent être en 
 très bon état et réutilisables. Jouets pour enfant\, vaisselles\, déco
 ration\, fournitures scolaires\, bijoux de fantaisie\, petits électromén
 agers\, CD\, DVD\, vinyles\, jeux de société...\n\nDimanche 25 mai de 14
 h à 17h : récupération des objets\n\nQue peut-on prendre ? : Prenez ce 
 que vous voulez\, gratuitement (5 objets maximum).\n\nRetour des objets no
 n donnés de 17h à 18h.
ATTACH;FMTTYPE=image/jpeg:https://www.azaylebrule.fr/wp-content/uploads/20
 25/04/Gratiferia-du-CMJ-du-25052025-scaled.jpg
LOCATION:Mairie d'Azay-le-Brûlé\,  34 Rue du Prieuré le Bourg\, Azay-le-
 brûlé\, 79400\, France
X-APPLE-STRUCTURED-LOCATION;VALUE=URI;X-ADDRESS= 34 Rue du Prieuré le Bour
 g\, Azay-le-brûlé\, 79400\, France;X-APPLE-RADIUS=100;X-TITLE=Mairie d'A
 zay-le-Brûlé:geo:0,0
END:VEVENT
BEGIN:VTIMEZONE
TZID:Europe/Paris
X-LIC-LOCATION:Europe/Paris
BEGIN:DAYLIGHT
DTSTART:20250330T030000
TZOFFSETFROM:+0100
TZOFFSETTO:+0200
TZNAME:CEST
END:DAYLIGHT
END:VTIMEZONE
END:VCALENDAR