BEGIN:VCALENDAR
VERSION:2.0
PRODID:-//wp-events-plugin.com//6.5.1//EN
TZID:Europe/Paris
X-WR-TIMEZONE:Europe/Paris
BEGIN:VEVENT
UID:53@azaylebrule.fr
DTSTART;TZID=Europe/Paris:20250713T200000
DTEND;TZID=Europe/Paris:20250713T234500
DTSTAMP:20250712T075639Z
URL:https://www.azaylebrule.fr/events/feu-dartifice-au-pont-romain/
SUMMARY:Bal - Food trucks - Buvette au Pont Romain
DESCRIPTION:Bal - Food trucks - Buvette\n\nLe feu d'artifice est annulé en
  raison des conditions météo
ATTACH;FMTTYPE=image/jpeg:https://www.azaylebrule.fr/wp-content/uploads/20
 25/06/Affiche-13-Juillet.png
LOCATION:Pont Romain\, route de Valette\, Azay-le-Brûlé\, 79400\, France
X-APPLE-STRUCTURED-LOCATION;VALUE=URI;X-ADDRESS=route de Valette\, Azay-le-
 Brûlé\, 79400\, France;X-APPLE-RADIUS=100;X-TITLE=Pont Romain:geo:0,0
END:VEVENT
BEGIN:VTIMEZONE
TZID:Europe/Paris
X-LIC-LOCATION:Europe/Paris
BEGIN:DAYLIGHT
DTSTART:20250330T030000
TZOFFSETFROM:+0100
TZOFFSETTO:+0200
TZNAME:CEST
END:DAYLIGHT
END:VTIMEZONE
END:VCALENDAR