BEGIN:VCALENDAR
VERSION:2.0
PRODID:-//wp-events-plugin.com//6.5.1//EN
TZID:Europe/Paris
X-WR-TIMEZONE:Europe/Paris
BEGIN:VEVENT
UID:73@azaylebrule.fr
DTSTART;TZID=Europe/Paris:20251108T093000
DTEND;TZID=Europe/Paris:20251108T170000
DTSTAMP:20251027T081304Z
URL:https://www.azaylebrule.fr/events/construction-dabris-a-faune/
SUMMARY:Construction d'abris à faune
DESCRIPTION:Au sein de l'espace naturel sensible (ENS) de la carrière de R
 icou\, un ancien transformateur électrique est présent. L'objectif est d
 'aménager ce bâtiment pour favoriser l'accueil de la biodiversité. Plus
 ieurs actions sont envisagées\, parmi lesquelles la construction de trois
  abris à faune à l'aide de bois mort et de pierres sèches....\n\nLe tem
 ps d'une journée\, venez vous joindre à nous pour construire ces trois a
 bris à faune\, sur le site de la carrière de Ricou\, à Azay-le-Brûlé 
 (79).\n\nSamedi 8 novembre\, de 9h30 à 17h\, avec un pique-nique partagé
  le midi !\n\nPensez à prendre : vêtements adaptés\, chaussures fermé
 es\, gants\, quelque chose à manger et/ou à boire à partager !\n\nRende
 z-vous sur le parking de la carrière de Ricou à Azay-le-Brûlé.\n\nUne 
 belle façon de favoriser la biodiversité en réhabilitant ce bâtiment e
 t en partageant un moment convivial !\n\nGratuit\, sur inscription :\n\nju
 stin.bonifait@lpo.fr -  06.21.46.84.01
ATTACH;FMTTYPE=image/jpeg:https://www.azaylebrule.fr/wp-content/uploads/20
 25/10/2025-11-08-Construction-abris-faune.jpg
LOCATION:Carrière de Ricou\, chemin de Ricou\, Azay-le-Brûlé\, Deux-Sèv
 res\, 79400\, France
X-APPLE-STRUCTURED-LOCATION;VALUE=URI;X-ADDRESS=chemin de Ricou\, Azay-le-B
 rûlé\, Deux-Sèvres\, 79400\, France;X-APPLE-RADIUS=100;X-TITLE=Carrièr
 e de Ricou:geo:0,0
END:VEVENT
BEGIN:VTIMEZONE
TZID:Europe/Paris
X-LIC-LOCATION:Europe/Paris
BEGIN:STANDARD
DTSTART:20251026T020000
TZOFFSETFROM:+0200
TZOFFSETTO:+0100
TZNAME:CET
END:STANDARD
END:VTIMEZONE
END:VCALENDAR