BEGIN:VCALENDAR
VERSION:2.0
PRODID:-//wp-events-plugin.com//6.5.1//EN
TZID:Europe/Paris
X-WR-TIMEZONE:Europe/Paris
BEGIN:VEVENT
UID:69@azaylebrule.fr
DTSTART;TZID=Europe/Paris:20251111T113000
DTEND;TZID=Europe/Paris:20251111T123000
DTSTAMP:20251014T075607Z
URL:https://www.azaylebrule.fr/events/commemoration-du-11-novembre/
SUMMARY:Commémoration du 11 novembre
DESCRIPTION:\n 	11h30 : Mise en place\n 	11h45 : Arrivée des autorités\
 n\n 	Lecture du message officiel\n 	Dépôt de gerbe\n 	Minute de silence\
 n 	Marseillaise\n 	Remerciements\n 	Départ des autorités\n\n\n\nA l’is
 sue de la cérémonie\, tous les participants sont invités au pot de l’
 amitié au foyer rural
ATTACH;FMTTYPE=image/jpeg:https://www.azaylebrule.fr/wp-content/uploads/20
 25/10/11-novembre-2025-scaled.jpg
LOCATION:Monument aux morts de Cerzeau\, 8 route du Quaireux\, Azay-le-Brû
 lé\, 79400\, France
X-APPLE-STRUCTURED-LOCATION;VALUE=URI;X-ADDRESS=8 route du Quaireux\, Azay-
 le-Brûlé\, 79400\, France;X-APPLE-RADIUS=100;X-TITLE=Monument aux morts 
 de Cerzeau:geo:0,0
END:VEVENT
BEGIN:VTIMEZONE
TZID:Europe/Paris
X-LIC-LOCATION:Europe/Paris
BEGIN:STANDARD
DTSTART:20251026T020000
TZOFFSETFROM:+0200
TZOFFSETTO:+0100
TZNAME:CET
END:STANDARD
END:VTIMEZONE
END:VCALENDAR