BEGIN:VCALENDAR
VERSION:2.0
PRODID:-//wp-events-plugin.com//6.5.1//EN
TZID:Europe/Paris
X-WR-TIMEZONE:Europe/Paris
BEGIN:VEVENT
UID:70@azaylebrule.fr
DTSTART;TZID=Europe/Paris;VALUE=DATE:20251101
DTEND;TZID=Europe/Paris;VALUE=DATE:20251123
DTSTAMP:20251014T124438Z
URL:https://www.azaylebrule.fr/events/collecte-de-jouets/
SUMMARY:Collecte de jouets
DESCRIPTION:Cette année notre commune participe à une grande collecte de 
 jouets d’occasion pour les enfants défavorisés.\nApportez tous les jou
 ets que vos enfants n’utilisent plus : peluches\, poupées\, jeux de soc
 iété\, jeux vidéo\, voitures télécommandées\, instruments de musique
 \, trottinettes...\nVérifiez qu’ils sont bien complets et en bon état 
 et déposez-les dans le carton dédié à l'accueil de la mairie.\n\nwww.l
 aisseparlertoncoeur.org
ATTACH;FMTTYPE=image/jpeg:https://www.azaylebrule.fr/wp-content/uploads/20
 25/10/ES_Aff_40_60_SMC_Haut_Val_Sevre_LPTC-scaled.jpg
LOCATION:Mairie d'Azay-le-Brûlé\,  34 Rue du Prieuré le Bourg\, Azay-le-
 brûlé\, 79400\, France
X-APPLE-STRUCTURED-LOCATION;VALUE=URI;X-ADDRESS= 34 Rue du Prieuré le Bour
 g\, Azay-le-brûlé\, 79400\, France;X-APPLE-RADIUS=100;X-TITLE=Mairie d'A
 zay-le-Brûlé:geo:0,0
END:VEVENT
BEGIN:VTIMEZONE
TZID:Europe/Paris
X-LIC-LOCATION:Europe/Paris
BEGIN:STANDARD
DTSTART:20251026T020000
TZOFFSETFROM:+0200
TZOFFSETTO:+0100
TZNAME:CET
END:STANDARD
END:VTIMEZONE
END:VCALENDAR