BEGIN:VCALENDAR
VERSION:2.0
PRODID:-//wp-events-plugin.com//6.5.1//EN
TZID:Europe/Paris
X-WR-TIMEZONE:Europe/Paris
BEGIN:VEVENT
UID:57@azaylebrule.fr
DTSTART;TZID=Europe/Paris:20250816T190000
DTEND;TZID=Europe/Paris:20250816T231500
DTSTAMP:20250715T123604Z
URL:https://www.azaylebrule.fr/events/cine-en-plein-air-une-histoire-vraie
 /
SUMMARY:Ciné en plein air - Une histoire vraie
DESCRIPTION:Augé Saivres Azay-le-Brûlé Patrimoine et paysages propose av
 ec la commune d'Azay-le-Brûlé une séance de cinéma en plei-air. Le fil
 m choisi est une histoire vraie de David Lynch sorti en 1999 (1h52mn). Une
  buvette sera disponible sur place. L'association propose un pique-nique t
 iré du sac à partir de 19h00.\n\nSynopsis : Alvin Straight\, vétéran d
 e 73 ans\, vit avec sa fille Rose dans une petite ville de l’Iowa. Lorsq
 u’il apprend que son frère Lyle a été victime d’une attaque\, le vi
 eil homme décide de renouer avec lui\, après dix ans de silence. Malgré
  son état de santé problématique\, Alvin est résolu à entreprendre le
  long voyage qui le sépare de son frère. Privé de permis de conduire à
  cause de sa mauvaise vue\, il va devoir effectuer plusieurs centaines de 
 kilomètres sur sa tondeuse à gazon...\n\nPour voir la bande-annonce : ht
 tps://www.youtube.com/watch?v=zctGybdAkzY
ATTACH;FMTTYPE=image/jpeg:https://www.azaylebrule.fr/wp-content/uploads/20
 25/07/une_histoire_vraie.jpg
LOCATION:Mairie d'Azay-le-Brûlé\,  34 Rue du Prieuré le Bourg\, Azay-le-
 brûlé\, 79400\, France
X-APPLE-STRUCTURED-LOCATION;VALUE=URI;X-ADDRESS= 34 Rue du Prieuré le Bour
 g\, Azay-le-brûlé\, 79400\, France;X-APPLE-RADIUS=100;X-TITLE=Mairie d'A
 zay-le-Brûlé:geo:0,0
END:VEVENT
BEGIN:VTIMEZONE
TZID:Europe/Paris
X-LIC-LOCATION:Europe/Paris
BEGIN:DAYLIGHT
DTSTART:20250330T030000
TZOFFSETFROM:+0100
TZOFFSETTO:+0200
TZNAME:CEST
END:DAYLIGHT
END:VTIMEZONE
END:VCALENDAR