BEGIN:VCALENDAR
VERSION:2.0
PRODID:-//wp-events-plugin.com//6.5.1//EN
TZID:Europe/Paris
X-WR-TIMEZONE:Europe/Paris
BEGIN:VEVENT
UID:63@azaylebrule.fr
DTSTART;TZID=Europe/Paris:20251011T093000
DTEND;TZID=Europe/Paris:20251011T170000
DTSTAMP:20250923T094505Z
URL:https://www.azaylebrule.fr/events/chantier-participatif/
SUMMARY:Chantier participatif
DESCRIPTION:Construction d'une spirale en pierres sèches\nLes spirales aro
 matiques en pierres sèches\, au-delà de leur aspect esthétique original
 \, sont des véritables atouts pour favoriser l'accueil de la biodiversit
 é ! Lieu de développement pour certaines plantes spécifiques\, habitat/
 refuge pour de nombreuses espèces de la faune sauvage...\nLe temps d'une 
 journée\, venez vous joindre à nous pour construire une spirale aromatiq
 ue en pierres sèches\, sur le site du cimetière nouveau d'Azay-le-Brûl
 é (79400)\n\n📅 Samedi 11 octobre\, de 9h30 à 17h\, avec un pique-niq
 ue partagé le midi !\n\n❗Pensez à prendre : vêtements adaptés\, cha
 ussures fermées\, gants\, quelque chose à manger et/ou à boire à parta
 ger !\n\n📍Rendez-vous sur le parking du cimetière nouveau d'Azay-le-Br
 ûlé.\n\n☝️ Une belle façon de favoriser la biodiversité tout en a
 pportant un atout esthétique et fleuri sur cet espace de la commune !\n\n
 Gratuit\, sur inscription :\n\n📧 justin.bonifait@lpo.fr\n\n📞 06.21
 .46.84.01
ATTACH;FMTTYPE=image/jpeg:https://www.azaylebrule.fr/wp-content/uploads/20
 25/09/2025-10-11-Construction-spirale-aromatique.jpg
LOCATION:Cimetière nouveau\, RD 8\, Azay-le-Brûlé\, 79400\, France
X-APPLE-STRUCTURED-LOCATION;VALUE=URI;X-ADDRESS=RD 8\, Azay-le-Brûlé\, 79
 400\, France;X-APPLE-RADIUS=100;X-TITLE=Cimetière nouveau:geo:0,0
END:VEVENT
BEGIN:VTIMEZONE
TZID:Europe/Paris
X-LIC-LOCATION:Europe/Paris
BEGIN:DAYLIGHT
DTSTART:20250330T030000
TZOFFSETFROM:+0100
TZOFFSETTO:+0200
TZNAME:CEST
END:DAYLIGHT
END:VTIMEZONE
END:VCALENDAR