BEGIN:VCALENDAR
VERSION:2.0
PRODID:-//wp-events-plugin.com//6.5.1//EN
TZID:Europe/Paris
X-WR-TIMEZONE:Europe/Paris
BEGIN:VEVENT
UID:54@azaylebrule.fr
DTSTART;TZID=Europe/Paris:20250705T160000
DTEND;TZID=Europe/Paris:20250705T180000
DTSTAMP:20250624T112949Z
URL:https://www.azaylebrule.fr/events/carnets-dazay-a-cerzeau/
SUMMARY:Carnets d'Azay à Cerzeau
DESCRIPTION:Les carnets d'Azay sont proposés par l’Association Augé\, S
 aivres\, Azay-le-Brûlé patrimoine et paysages avec le soutien de la comm
 une d'Azay-le-Brûlé. Ils consistent à découvrir les 12 villages lors d
 e balades où chacun peut s'exprimer\, dire ce qu'il aime\, raconter une a
 necdote\, dessiner\, prendre des photographies\, etc. L'objectif de l'asso
 ciation est de recueillir la perception des habitants sur son village ou c
 elui d'à côté.\n\nAvec les participations de Marie-Dominique Salomon et
  Claude Morillon.\n\nUn temps convivial sera proposé à la fin de la visi
 te.\n\nRDV 16 heures\, départ du foyer rural.
ATTACH;FMTTYPE=image/jpeg:https://www.azaylebrule.fr/wp-content/uploads/20
 25/06/flyersCerzeau-1.png
LOCATION:Foyer Rural\, 2 route du Quaireux\,\, Azay-le-Brûlé\, 79400\, Fr
 ance
X-APPLE-STRUCTURED-LOCATION;VALUE=URI;X-ADDRESS=2 route du Quaireux\,\, Aza
 y-le-Brûlé\, 79400\, France;X-APPLE-RADIUS=100;X-TITLE=Foyer Rural:geo:0
 ,0
END:VEVENT
BEGIN:VTIMEZONE
TZID:Europe/Paris
X-LIC-LOCATION:Europe/Paris
BEGIN:DAYLIGHT
DTSTART:20250330T030000
TZOFFSETFROM:+0100
TZOFFSETTO:+0200
TZNAME:CEST
END:DAYLIGHT
END:VTIMEZONE
END:VCALENDAR