BEGIN:VCALENDAR
VERSION:2.0
PRODID:-//wp-events-plugin.com//6.5.1//EN
TZID:Europe/Paris
X-WR-TIMEZONE:Europe/Paris
BEGIN:VEVENT
UID:72@azaylebrule.fr
DTSTART;TZID=Europe/Paris:20251130T143000
DTEND;TZID=Europe/Paris:20251130T180000
DTSTAMP:20251023T130836Z
URL:https://www.azaylebrule.fr/events/apres-midi-jeux-de-societes-2/
SUMMARY:Après-midi jeux de sociétés
DESCRIPTION:Après-midi jeux de sociétés organisé par A qui de jouer ?\n
 \nPrésence d'une animatrice "Oika Oika"\n\nIdées cadeaux pour Noël assu
 rées ! Commande possible\n\nStand boissons et crêpes
ATTACH;FMTTYPE=image/jpeg:https://www.azaylebrule.fr/wp-content/uploads/20
 25/10/AM-jeux-duu-30-nov-2025.png
LOCATION:Mairie d'Azay-le-Brûlé\,  34 Rue du Prieuré le Bourg\, Azay-le-
 brûlé\, 79400\, France
X-APPLE-STRUCTURED-LOCATION;VALUE=URI;X-ADDRESS= 34 Rue du Prieuré le Bour
 g\, Azay-le-brûlé\, 79400\, France;X-APPLE-RADIUS=100;X-TITLE=Mairie d'A
 zay-le-Brûlé:geo:0,0
END:VEVENT
BEGIN:VTIMEZONE
TZID:Europe/Paris
X-LIC-LOCATION:Europe/Paris
BEGIN:STANDARD
DTSTART:20251026T020000
TZOFFSETFROM:+0200
TZOFFSETTO:+0100
TZNAME:CET
END:STANDARD
END:VTIMEZONE
END:VCALENDAR