BEGIN:VCALENDAR
VERSION:2.0
PRODID:-//wp-events-plugin.com//6.5.1//EN
TZID:Europe/Paris
X-WR-TIMEZONE:Europe/Paris
BEGIN:VEVENT
UID:52@azaylebrule.fr
DTSTART;TZID=Europe/Paris:20250704T200000
DTEND;TZID=Europe/Paris:20250704T230000
DTSTAMP:20250613T090412Z
URL:https://www.azaylebrule.fr/events/apero-concert-3/
SUMMARY:Apéro concert
DESCRIPTION:Apéro concert « Irish sky » (Musique iralndaise)\n\nGRATUIT\
 n\nBuvette et food truck (Joubipizz)\n\nChâteau de l'Aunaye à Fonvérine
 s
ATTACH;FMTTYPE=image/jpeg:https://www.azaylebrule.fr/wp-content/uploads/20
 25/06/Concert-du-4-juillet-a-Fonverines.png
LOCATION:Château de l'Aulnay\, Rue de l'Aulnay\, Fonverines\, Azay-le-brû
 lé\, Poitou-Charentes\, 79400\, France
X-APPLE-STRUCTURED-LOCATION;VALUE=URI;X-ADDRESS=Rue de l'Aulnay\, Fonverine
 s\, Azay-le-brûlé\, Poitou-Charentes\, 79400\, France;X-APPLE-RADIUS=100
 ;X-TITLE=Château de l'Aulnay:geo:0,0
END:VEVENT
BEGIN:VTIMEZONE
TZID:Europe/Paris
X-LIC-LOCATION:Europe/Paris
BEGIN:DAYLIGHT
DTSTART:20250330T030000
TZOFFSETFROM:+0100
TZOFFSETTO:+0200
TZNAME:CEST
END:DAYLIGHT
END:VTIMEZONE
END:VCALENDAR