BEGIN:VCALENDAR
VERSION:2.0
PRODID:-//wp-events-plugin.com//6.5.1//EN
TZID:Europe/Paris
X-WR-TIMEZONE:Europe/Paris
BEGIN:VEVENT
UID:66@azaylebrule.fr
DTSTART;TZID=Europe/Paris:20251003T200000
DTEND;TZID=Europe/Paris:20251003T230000
DTSTAMP:20250929T082836Z
URL:https://www.azaylebrule.fr/events/3665/
SUMMARY:Soirée jeux de sociétés
DESCRIPTION:\nL'association A Qui De Jouer propose une soirée jeux de soci
 étés le vendredi 3 octobre 2025 à partir de 20h à la salle de la mairi
 e. Cette soirée jeux est ouverte à tous et GRATUITE.\n\n\n\n
ATTACH;FMTTYPE=image/jpeg:https://www.azaylebrule.fr/wp-content/uploads/20
 25/09/Soiree-jeux-3-Octobre.jpg
LOCATION:Mairie d'Azay-le-Brûlé\,  34 Rue du Prieuré le Bourg\, Azay-le-
 brûlé\, 79400\, France
X-APPLE-STRUCTURED-LOCATION;VALUE=URI;X-ADDRESS= 34 Rue du Prieuré le Bour
 g\, Azay-le-brûlé\, 79400\, France;X-APPLE-RADIUS=100;X-TITLE=Mairie d'A
 zay-le-Brûlé:geo:0,0
END:VEVENT
BEGIN:VTIMEZONE
TZID:Europe/Paris
X-LIC-LOCATION:Europe/Paris
BEGIN:DAYLIGHT
DTSTART:20250330T030000
TZOFFSETFROM:+0100
TZOFFSETTO:+0200
TZNAME:CEST
END:DAYLIGHT
END:VTIMEZONE
END:VCALENDAR